BEGIN:VCALENDAR
VERSION:2.0
PRODID:-//WoodWorks! Cluster - ECPv6.15.17.1//NONSGML v1.0//EN
CALSCALE:GREGORIAN
METHOD:PUBLISH
X-WR-CALNAME:WoodWorks! Cluster
X-ORIGINAL-URL:https://woodworkscluster.no
X-WR-CALDESC:Arrangement for WoodWorks! Cluster
REFRESH-INTERVAL;VALUE=DURATION:PT1H
X-Robots-Tag:noindex
X-PUBLISHED-TTL:PT1H
BEGIN:VTIMEZONE
TZID:Europe/Oslo
BEGIN:DAYLIGHT
TZOFFSETFROM:+0100
TZOFFSETTO:+0200
TZNAME:CEST
DTSTART:20250330T010000
END:DAYLIGHT
BEGIN:STANDARD
TZOFFSETFROM:+0200
TZOFFSETTO:+0100
TZNAME:CET
DTSTART:20251026T010000
END:STANDARD
BEGIN:DAYLIGHT
TZOFFSETFROM:+0100
TZOFFSETTO:+0200
TZNAME:CEST
DTSTART:20260329T010000
END:DAYLIGHT
BEGIN:STANDARD
TZOFFSETFROM:+0200
TZOFFSETTO:+0100
TZNAME:CET
DTSTART:20261025T010000
END:STANDARD
BEGIN:DAYLIGHT
TZOFFSETFROM:+0100
TZOFFSETTO:+0200
TZNAME:CEST
DTSTART:20270328T010000
END:DAYLIGHT
BEGIN:STANDARD
TZOFFSETFROM:+0200
TZOFFSETTO:+0100
TZNAME:CET
DTSTART:20271031T010000
END:STANDARD
END:VTIMEZONE
BEGIN:VEVENT
DTSTART;TZID=Europe/Oslo:20260422T100000
DTEND;TZID=Europe/Oslo:20260422T110000
DTSTAMP:20260421T131925
CREATED:20260417T075010Z
LAST-MODIFIED:20260417T075149Z
UID:191563-1776852000-1776855600@woodworkscluster.no
SUMMARY:Medlemsmøte: Nye klimakrav i TEK17 – forstå forslaget og gi innspill
DESCRIPTION:I forslaget fra DiBK (Direktoratet for byggkvalitet) legges det opp til å ekskludere biogent karbon fra klimaregnskap og beregninger. Dette vil kunne få store konsekvenser for hvordan tre og andre fornybare materialer kommer ut i klimaberegninger i fremtidens bygg. Vi mener dette peker i feil retning og at regelverket heller bør stimulere til økt bruk av fornybare ressurser og karbonlagring i bygg. \nDette møtet gir deg innsikt i forslaget og mulighet til å bidra med innspill. \nVi oppfordrer alle medlemmer til å delta og til å bruke anledningen til å engasjere seg. Dette er en viktig sak for fremtidens rammevilkår for trebasert næring. \nMeld deg på via InnoTre sin nettside her. \nProgram\nAudun Øvrum\, administrerende direktør i Norsk Treteknisk Institutt\, guider oss gjennom:\n\n\n\n\n\nHva er klimakravene i TEK og hva innebærer forslaget?\nHvilke konsekvenser kan dette få for trebasert byggenæring?\nOm forslaget om å ekskludere biogent karbon; gjennomgang av treindustriens notat.\nHvordan gi relevante innspill til høringen?\n\nDu finner mer informasjon om høringen her:\nhttps://www.dibk.no/regelverk/horinger/hoyringar/horingsnotat-om-klimakrav-i-byggteknisk-forskrift \n\n\n\n\nArrangementet er gratis. \nVelkommen! \nKontaktpersoner:\n– Knut Magnar Sandland\, knut.magnar@woodworkscluster.no\, 92452344\n– Kristin Vedum
URL:https://woodworkscluster.no/arrangement/medlemsmote-nye-klimakrav-i-tek17-forsta-forslaget-og-gi-innspill/
ATTACH;FMTTYPE=image/jpeg:https://woodworkscluster.no/wp-content/uploads/2025/08/fasadedetalj-nord-univ-namsos-foto-praksis-arkitekter.jpg
END:VEVENT
BEGIN:VEVENT
DTSTART;TZID=Europe/Oslo:20260423T100000
DTEND;TZID=Europe/Oslo:20260423T140000
DTSTAMP:20260421T131925
CREATED:20260302T133008Z
LAST-MODIFIED:20260417T124507Z
UID:191446-1776938400-1776952800@woodworkscluster.no
SUMMARY:Fagdag: God industripolitikk som konkurransefortrinn – Fra motvind til nye muligheter
DESCRIPTION:Programmet er satt sammen av en kombinasjon av faginnlegg og panelsamtaler om de temaene som løftes fram. \nSe programmet her: 2026 04 17 Program Fagdag \nTid: 23. april kl. 10.00-14.00 \nSted: Quality Airport Hotel i Stjørdal sentrum \nArrangementet er åpent. Deltakeravgiften er 700 kr for medlemmer og 1 000 kr for de som ikke er medlem. Faktura sendes. \nMeld deg på her.\n  \nSkog- og trebasert industri står i en krevende situasjon\, med fallende etterspørsel og økende konkurranse\, særlig knyttet til utviklingen i byggemarkedet. Samtidig åpner klimakrav\, behovet for økt foredlingsgrad og sterkere nasjonal verdiskaping et betydelig mulighetsrom. Spørsmålet er hvordan vi evner å bruke industripolitikk\, rammevilkår og samspill i verdikjeden til å styrke konkurransekraften i en tid preget av omstilling. \nFagdagen tar utgangspunkt i denne spenningen mellom utfordringer og muligheter. Gjennom innspill vi vil få fra NHO og LO settes rammen for hva som kreves av både myndigheter\, næring og organisasjoner for å snu utviklingen og legge grunnlag for økt aktivitet og vekst. \nVidere rettes fokus mot konkurransekraft i praksis\, i et marked som blir stadig mer komplekst. Hvordan påvirker regulering\, prosesser og samspill hva vi faktisk får bygget? Og er det systemene rundt oss som bremser utviklingen – eller finnes det også nye muligheter? \nGjennom erfaringer fra Cobe i Danmark og Norge\, samt konkrete case fra Thon Gruppen\, belyses både forskjeller i rammebetingelser og praktisk gjennomføring av krevende prosjekter. Samlet gir dette et grunnlag for å identifisere hvor barrierene ligger – og hvor de største mulighetene finnes. \nMålet med fagdagen er å løfte blikket fra situasjonsbeskrivelse til handling: Hva må til for å utvikle nye markeder\, styrke verdikjeden og posisjonere treindustrien for vekst i et marked i endring? \nProgrammet kan du lese her: 2026 04 15 Program Fagdag\n  \nNHO \nHva mener NHO myndighetene må gjøre for å sikre forutsigbare og konkurransedyktige rammevilkår\, redusere regulatoriske flaskehalser og legge bedre til rette for grønn industrialisering og økt foredlingsgrad slik det også løftes i NHOs DRAGI-rapport? Hva kan næringen selv må gjøre for å øke omstillingstakten gjennom innovasjon\, styrket samarbeid i verdikjeden og utvikling av mer industrialiserte og konkurransedyktige løsninger? \nCobe Arkitekter\, København \nCobe Arkitekter er et internasjonalt arkitektkontor med erfaring fra komplekse byggeprosjekter i flere land. Et team ledet av Cobe er kåret til vinner av arkitektkonkurransen om Transittkaia på Nyhavna i Trondheim. Med forslaget Ny Havna – Nye horisonter er transformasjonen av Nyhavna fra industri- og havneområde til en bærekraftig sentrumsbydel for alvor i gang. \nI dette innlegget vil Mads Bergens fra Cobe Arkitekter belyse forskjeller mellom Danmark og Norge\, både i det innledende planarbeidet og i godkjenningsprosesser for byggeprosjekter. Med utgangspunkt i konkrete erfaringer og case vil han reflektere over hvordan regulering\, organisering og praksis påvirker fremdrift og forutsigbarhet – og peke på områder der Norge kan lære av Danmark for å oppnå mer effektive prosesser\, lavere kostnader og økt byggeaktivitet. \nAGRI Analyse \nMed utgangspunkt i AGRI Analyse sin rapport om norsk skogindustri drøftes et grunnleggende viktig spørsmål: Hvorfor klarer vi ikke i tilstrekkelig grad å realisere muligheter og verdiskapingen fra egne ressurser? \nInnlegget peker på sentrale barrierer i dagens næringspolitikk – knyttet til kraft\, kapital\, reguleringer og koordinering\, og diskuterer hva som faktisk skal til for å utløse nye industrielle satsinger i Norge for vår viktige verdikjede. \nThon Gruppen \nThon Eiendom er en av Norges største eiendomsaktører\, med bred erfaring innen utvikling\, forvaltning og rehabilitering av næringseiendom over hele landet. I dette innlegget vil Trond Are Martinsen dele erfaringer fra modernisering og oppgradering av eksisterende bygningsmasse\, med særlig utgangspunkt i rehabiliteringen av Kjøpmannsgata 15 i Trondheim – et komplekst prosjekt med høye krav til både bevaring\, funksjonalitet og gjennomføring. \nGjennom konkrete erfaringer vil innlegget belyse hvordan tekniske\, regulatoriske og samarbeidsmessige utfordringer håndteres i praksis\, herunder samspill med entreprenør og myndigheter. Det legges særlig vekt på hva som fungerer – og hva som bør forbedres – med åpne og erfaringsbaserte refleksjoner rundt løsninger\, prosesser og produktvalg. \nHvordan kan erfaringene og kunnskapsdeling fra slike prosjekter bidra til utvikling av nye produkter og løsninger\, og hvilke muligheter åpner et voksende marked for rehabilitering og transformasjon for trebaserte materialer og industri? \nEBA- Entreprenørforeningen- Bygg og Anlegg \nEntreprenørforeningen – Bygg og Anlegg (EBA) er en sentral bransjeorganisasjon for bygg- og anleggsnæringen i Norge\, og jobber for å styrke konkurransekraft\, seriøsitet og bærekraft i næringen. EBA er en del av Næringslivets Hovedorganisasjon. \nKristian Dahlberg Hauge\, regiondirektør i EBA Trøndelag vil i dette innlegget snakke om hvordan bygg- og anleggsbransjen nå rigger seg for stadig mer komplekse markeder\, der økende krav og kompleksitet påvirker bransjens lønnsomhet og gjennomføringsevne. Innlegget vil særlig legge vekt på hvordan økt kompleksitet kan åpne for innovasjon\, nye samarbeidsformer og økt verdiskaping fremover. \nTreforedling \nMed de høye prisene på råvarer som har vært i 2025\, har det vært utfordrende for treforedlingsindustrien. Vi kan også trekke to generelle konklusjoner – at massemarkedet i stor grad er drevet av det som skjer i Asia\, og at fibertilgjengeligheten er avgjørende. \nFremtidsmulighetene for trefiber og restråstoff er store\, da dette utgjør fundamentet i den sirkulære bioøkonomien. Trefiber og restråstoff fra skog- og treindustri kan omdannes til høyverdige produkter\, og bidra til å redusere behovet for fossile råvarer. \nÅrsmøtet i WoodWorks! holdes direkte etter lunsjen.\nSe mer om årsmøtet og meld deg på via vår hjemmeside her.
URL:https://woodworkscluster.no/arrangement/woodworks-arsmote-og-fagdag/
LOCATION:Quality Airport Hotel\, Stjørdal
ATTACH;FMTTYPE=image/jpeg:https://woodworkscluster.no/wp-content/uploads/2023/01/2023-01-24-bilde.jpg
END:VEVENT
BEGIN:VEVENT
DTSTART;TZID=Europe/Oslo:20260423T140000
DTEND;TZID=Europe/Oslo:20260423T153000
DTSTAMP:20260421T131925
CREATED:20260306T143445Z
LAST-MODIFIED:20260324T150557Z
UID:191461-1776952800-1776958200@woodworkscluster.no
SUMMARY:Årsmøte i WoodWorks! 2026
DESCRIPTION:Årsmøtet i WoodWorsk! holdes 23. april kl. 14-15.30. \nSted: Quality Airport Hotell i Stjørdal sentrum. \nMeld deg på her. \nFør årsmøtet arrangerer vi fagdagen “God industripolitikk som konkurransefortrinn – Fra motvind til nye muligheter” samme sted. Fagdagen starter kl. 10. Les mer og finn lenke til påmelding på vår hjemmeside her.
URL:https://woodworkscluster.no/arrangement/arsmote-i-woodworks-2026/
ATTACH;FMTTYPE=image/jpeg:https://woodworkscluster.no/wp-content/uploads/2023/06/img_2271-1.jpg
END:VEVENT
BEGIN:VEVENT
DTSTART;TZID=Europe/Oslo:20260424T083000
DTEND;TZID=Europe/Oslo:20260424T093000
DTSTAMP:20260421T131925
CREATED:20251219T125821Z
LAST-MODIFIED:20251219T125821Z
UID:191349-1777019400-1777023000@woodworkscluster.no
SUMMARY:Webinar RISK: Kan taubanedrift (linbana) være en måte å redusere faren for skred\, ras og erosjon?
DESCRIPTION:Det vil være samme lenke til alle webinarene\, som arrangeres i Teams. Når du har meldt deg på\, vil vi sende en møteinvitasjon i Outlook i løpet av noen dager til hvert av de arrangementene du har haket av for at du ønsker å delta på. Der vil vi legge inn den faste møtelenken. De som melder på like før et arrangement\, kan få denne møteinvitasjonen relativt kort tid før møtet. I hvert Outlook-møtet vil det stå mer informasjon om program og innledere. \nLes mer om hele webinarserien og meld deg på dem du ønsker å delta på her.
URL:https://woodworkscluster.no/arrangement/webinar-risk-kan-taubanedrift-linbana-vaere-en-mate-a-redusere-faren-for-skred-ras-og-erosjon/
ATTACH;FMTTYPE=image/heic:https://woodworkscluster.no/wp-content/uploads/2025/03/storflor-stjordal-b-scaled.jpg
END:VEVENT
BEGIN:VEVENT
DTSTART;TZID=Europe/Oslo:20260507T083000
DTEND;TZID=Europe/Oslo:20260507T093000
DTSTAMP:20260421T131925
CREATED:20251219T130849Z
LAST-MODIFIED:20251219T130849Z
UID:191350-1778142600-1778146200@woodworkscluster.no
SUMMARY:Webinar RISK: Erfaringer fra Nord-Amerika med skogbrann\, med tanke på økt fare for jordskred og -ras
DESCRIPTION:Det vil være samme lenke til alle webinarene\, som arrangeres i Teams. Når du har meldt deg på\, vil vi sende en møteinvitasjon i Outlook i løpet av noen dager til hvert av de arrangementene du har haket av for at du ønsker å delta på. Der vil vi legge inn den faste møtelenken. De som melder på like før et arrangement\, kan få denne møteinvitasjonen relativt kort tid før møtet. I hvert Outlook-møtet vil det stå mer informasjon om program og innledere. \nLes mer om hele webinarserien og meld deg på dem du ønsker å delta på her.
URL:https://woodworkscluster.no/arrangement/webinar-risk-erfaringer-fra-nord-amerika-med-skogbrann-med-tanke-pa-okt-fare-for-jordskred-og-ras/
ATTACH;FMTTYPE=image/heic:https://woodworkscluster.no/wp-content/uploads/2025/03/storflor-stjordal-b-scaled.jpg
END:VEVENT
BEGIN:VEVENT
DTSTART;TZID=Europe/Oslo:20260508T083000
DTEND;TZID=Europe/Oslo:20260508T093000
DTSTAMP:20260421T131925
CREATED:20251219T132250Z
LAST-MODIFIED:20251219T132250Z
UID:191351-1778229000-1778232600@woodworkscluster.no
SUMMARY:Webinar RISK: Den store skogbrannen i Hälsingland 2018; hva skjedde? Erfaringer? Bakgrunn for ekskursjonsdagen på stedet uken etter
DESCRIPTION:Det vil være samme lenke til alle webinarene\, som arrangeres i Teams. Når du har meldt deg på\, vil vi sende en møteinvitasjon i Outlook i løpet av noen dager til hvert av de arrangementene du har haket av for at du ønsker å delta på. Der vil vi legge inn den faste møtelenken. De som melder på like før et arrangement\, kan få denne møteinvitasjonen relativt kort tid før møtet. I hvert Outlook-møtet vil det stå mer informasjon om program og innledere. \nLes mer om hele webinarserien og meld deg på dem du ønsker å delta på her.
URL:https://woodworkscluster.no/arrangement/webinar-risk-den-store-skogbrannen-i-halsingland-2018-hva-skjedde-erfaringer-bakgrunn-for-ekskursjonsdagen-pa-stedet-uken-etter/
ATTACH;FMTTYPE=image/heic:https://woodworkscluster.no/wp-content/uploads/2025/03/storflor-stjordal-b-scaled.jpg
END:VEVENT
BEGIN:VEVENT
DTSTART;TZID=Europe/Oslo:20260616T110000
DTEND;TZID=Europe/Oslo:20260616T190000
DTSTAMP:20260421T131925
CREATED:20260311T122815Z
LAST-MODIFIED:20260311T123105Z
UID:191499-1781607600-1781636400@woodworkscluster.no
SUMMARY:RISK Midtveiskonferanse
DESCRIPTION:Deltakelse er gratis. Prosjektet dekker møtelokaler og servering\, men reise og overnatting dekkes av den enkelte. \nNB! Du må sjøl bestille overnatting i Stjørdal. Arrangementet er på Scandic Hell\, men det finnes andre overnattingsmuligheter i nærheten også. \nMeld deg på fagdagen\, inkl. lunsj og middag her. Skriv under “Annen informasjon” hvis du IKKE ønsker middag. \nDagen etter konferansen er det en fagdag\, som vi håper alle blir med på. Da skal vi se på praktiske eksempler på\, og problemstillinger knytta til\, skred\, ras og erosjon i forbindelse med utførte skogbrukstiltak i området. Se egen informasjon og påmelding til den dagen. \nProgrammet for midtveiskonferansen: \n\n\n\nTidspunkt\nProgrampost\n\n\n11.00\nRegistrering\n\n\n11.30\nLunsj\n\n\n12.15\nOppstart. Oppdatering på vær/klima\n\n\n\nStatus literaturstudie mm + kart Sverige\n\n\n\nPause\n\n\n\nInnlegg fra andre land; Østerrike(?)\n\n\n\nWorkshop om innhold i evt. handbok/veileder og tema for siste prosjektår\n\n\n\nInformasjon om raset på E6/jernbane i Åsen\n\n\n\nForberede fagdagen neste dag\n\n\n19.00\nMiddag
URL:https://woodworkscluster.no/arrangement/risk-midtveiskonferanse/
ATTACH;FMTTYPE=image/jpeg:https://woodworkscluster.no/wp-content/uploads/2025/03/img_6788.jpg
END:VEVENT
END:VCALENDAR